BEGIN:VCALENDAR
VERSION:2.0
PRODID:-//Bremer Tennis-Club von 1912 e.V. - ECPv5.3.2.1//NONSGML v1.0//EN
CALSCALE:GREGORIAN
METHOD:PUBLISH
X-WR-CALNAME:Bremer Tennis-Club von 1912 e.V.
X-ORIGINAL-URL:https://www.btc1912.de
X-WR-CALDESC:Veranstaltungen für Bremer Tennis-Club von 1912 e.V.
BEGIN:VTIMEZONE
TZID:Europe/Helsinki
BEGIN:DAYLIGHT
TZOFFSETFROM:+0200
TZOFFSETTO:+0300
TZNAME:EEST
DTSTART:20160327T010000
END:DAYLIGHT
BEGIN:STANDARD
TZOFFSETFROM:+0300
TZOFFSETTO:+0200
TZNAME:EET
DTSTART:20161030T010000
END:STANDARD
END:VTIMEZONE
BEGIN:VEVENT
DTSTART;TZID=Europe/Helsinki:20160619T090000
DTEND;TZID=Europe/Helsinki:20160619T090000
DTSTAMP:20260422T113124
CREATED:20160607T124840Z
LAST-MODIFIED:20160607T124840Z
UID:10240-1466326800-1466326800@www.btc1912.de
SUMMARY:5. Herren 40 (Auswärtsspiel)
DESCRIPTION:Bremer TV von 1896 III – Bremer TC von 1912
URL:https://www.btc1912.de/event/5-herren-40-auswaertsspiel/
CATEGORIES:Auswärtspiele,Herren
END:VEVENT
BEGIN:VEVENT
DTSTART;TZID=Europe/Helsinki:20160619T100000
DTEND;TZID=Europe/Helsinki:20160619T100000
DTSTAMP:20260422T113124
CREATED:20160607T124953Z
LAST-MODIFIED:20160607T124953Z
UID:10241-1466330400-1466330400@www.btc1912.de
SUMMARY:2. Herren 30 (Auswärtsspiel)
DESCRIPTION:TuS Sudwalde – Bremer TC von 1912
URL:https://www.btc1912.de/event/2-herren-30-auswaertsspiel-3/
CATEGORIES:Auswärtspiele,Herren
END:VEVENT
BEGIN:VEVENT
DTSTART;TZID=Europe/Helsinki:20160619T110000
DTEND;TZID=Europe/Helsinki:20160619T110000
DTSTAMP:20260422T113124
CREATED:20160217T145750Z
LAST-MODIFIED:20160217T145750Z
UID:9487-1466334000-1466334000@www.btc1912.de
SUMMARY:1. Damen 30 (Auswärtsspiel)
DESCRIPTION:Bremer TC von 1912 – THC Lüneburg
URL:https://www.btc1912.de/event/1-damen-30-auswaertsspiel-3/
CATEGORIES:Auswärtspiele,Damen
END:VEVENT
BEGIN:VEVENT
DTSTART;TZID=Europe/Helsinki:20160619T110000
DTEND;TZID=Europe/Helsinki:20160619T110000
DTSTAMP:20260422T113124
CREATED:20160426T123541Z
LAST-MODIFIED:20160426T123541Z
UID:9868-1466334000-1466334000@www.btc1912.de
SUMMARY:2. Damen 30 (Heimspiel)
DESCRIPTION:Bremer TC von 1912 – TS Woltmershausen
URL:https://www.btc1912.de/event/2-damen-30-heimspiel-4/
CATEGORIES:Damen,Heimspiele
END:VEVENT
BEGIN:VEVENT
DTSTART;TZID=Europe/Helsinki:20160619T110000
DTEND;TZID=Europe/Helsinki:20160619T110000
DTSTAMP:20260422T113124
CREATED:20160426T132218Z
LAST-MODIFIED:20160426T132218Z
UID:9886-1466334000-1466334000@www.btc1912.de
SUMMARY:Damen 40 (Heimspiel)
DESCRIPTION:Bremer TC von 1912 – TSV Lesum-Burgdamm
URL:https://www.btc1912.de/event/damen-40-heimspiel-2/
CATEGORIES:Damen,Heimspiele
END:VEVENT
BEGIN:VEVENT
DTSTART;TZID=Europe/Helsinki:20160619T110000
DTEND;TZID=Europe/Helsinki:20160619T110000
DTSTAMP:20260422T113124
CREATED:20160607T125126Z
LAST-MODIFIED:20160607T125126Z
UID:10242-1466334000-1466334000@www.btc1912.de
SUMMARY:Herren 60 (Heimspiel)
DESCRIPTION:Bremer TC von 1912 – TC Bassum (wird evtl. verlegt)
URL:https://www.btc1912.de/event/herren-60-heimspiel-2/
CATEGORIES:Heimspiele,Herren
END:VEVENT
BEGIN:VEVENT
DTSTART;TZID=Europe/Helsinki:20160619T130000
DTEND;TZID=Europe/Helsinki:20160619T130000
DTSTAMP:20260422T113124
CREATED:20160607T125251Z
LAST-MODIFIED:20160607T125251Z
UID:10243-1466341200-1466341200@www.btc1912.de
SUMMARY:4. Herren 40 (Heimspiel)
DESCRIPTION:Bremer TC von 1912 – TSV Lesum-Burgdamm
URL:https://www.btc1912.de/event/4-herren-40-heimspiel-2/
CATEGORIES:Heimspiele,Herren
END:VEVENT
BEGIN:VEVENT
DTSTART;TZID=Europe/Helsinki:20160619T140000
DTEND;TZID=Europe/Helsinki:20160619T140000
DTSTAMP:20260422T113124
CREATED:20160607T125407Z
LAST-MODIFIED:20160607T125407Z
UID:10244-1466344800-1466344800@www.btc1912.de
SUMMARY:1. Herren 40 (Auswärtsspiel)
DESCRIPTION:TV Rot-Weiss Bremen – Bremer TC von 1912
URL:https://www.btc1912.de/event/1-herren-40-auswaertsspiel/
CATEGORIES:Auswärtspiele,Herren
END:VEVENT
END:VCALENDAR