BEGIN:VCALENDAR
VERSION:2.0
PRODID:-//Bremer Tennis-Club von 1912 e.V. - ECPv5.3.2.1//NONSGML v1.0//EN
CALSCALE:GREGORIAN
METHOD:PUBLISH
X-WR-CALNAME:Bremer Tennis-Club von 1912 e.V.
X-ORIGINAL-URL:https://www.btc1912.de
X-WR-CALDESC:Veranstaltungen für Bremer Tennis-Club von 1912 e.V.
BEGIN:VTIMEZONE
TZID:Europe/Helsinki
BEGIN:DAYLIGHT
TZOFFSETFROM:+0200
TZOFFSETTO:+0300
TZNAME:EEST
DTSTART:20160327T010000
END:DAYLIGHT
BEGIN:STANDARD
TZOFFSETFROM:+0300
TZOFFSETTO:+0200
TZNAME:EET
DTSTART:20161030T010000
END:STANDARD
END:VTIMEZONE
BEGIN:VEVENT
DTSTART;TZID=Europe/Helsinki:20160523T163000
DTEND;TZID=Europe/Helsinki:20160523T163000
DTSTAMP:20260422T115135
CREATED:20160503T151522Z
LAST-MODIFIED:20160503T151522Z
UID:9997-1464021000-1464021000@www.btc1912.de
SUMMARY:Junioren U15 IV
DESCRIPTION:gegen Club zur Vahr III
URL:https://www.btc1912.de/event/junioren-u15-iv/
CATEGORIES:Heimspiel,Jugend
END:VEVENT
BEGIN:VEVENT
DTSTART;TZID=Europe/Helsinki:20160523T190000
DTEND;TZID=Europe/Helsinki:20160523T190000
DTSTAMP:20260422T115135
CREATED:20160507T100954Z
LAST-MODIFIED:20160507T100954Z
UID:10058-1464030000-1464030000@www.btc1912.de
SUMMARY:Spieltreff
DESCRIPTION:Alle Mitglieder\, die Spielpartner suchen\, treffen sich um 19 Uhr bei Platz 7. Eine Anmeldung ist nicht erforderlich.
URL:https://www.btc1912.de/event/spieltreff-7/
CATEGORIES:Allgemein
END:VEVENT
BEGIN:VEVENT
DTSTART;TZID=Europe/Helsinki:20160523T194500
DTEND;TZID=Europe/Helsinki:20160523T194500
DTSTAMP:20260422T115135
CREATED:20160507T095216Z
LAST-MODIFIED:20160507T095216Z
UID:10045-1464032700-1464032700@www.btc1912.de
SUMMARY:Schnuppertraining
DESCRIPTION:Schnuppertraining für Neumitglieder und Interessierte. Anmeldungen unter https://www.btc1912.de/anmeldung-schnuppertraining/
URL:https://www.btc1912.de/event/schnuppertraining-6/
CATEGORIES:Allgemein
END:VEVENT
END:VCALENDAR