BEGIN:VCALENDAR
VERSION:2.0
PRODID:-//Bremer Tennis-Club von 1912 e.V. - ECPv5.3.2.1//NONSGML v1.0//EN
CALSCALE:GREGORIAN
METHOD:PUBLISH
X-WR-CALNAME:Bremer Tennis-Club von 1912 e.V.
X-ORIGINAL-URL:https://www.btc1912.de
X-WR-CALDESC:Veranstaltungen für Bremer Tennis-Club von 1912 e.V.
BEGIN:VTIMEZONE
TZID:Europe/Helsinki
BEGIN:DAYLIGHT
TZOFFSETFROM:+0200
TZOFFSETTO:+0300
TZNAME:EEST
DTSTART:20160327T010000
END:DAYLIGHT
BEGIN:STANDARD
TZOFFSETFROM:+0300
TZOFFSETTO:+0200
TZNAME:EET
DTSTART:20161030T010000
END:STANDARD
END:VTIMEZONE
BEGIN:VEVENT
DTSTART;TZID=Europe/Helsinki:20160508T090000
DTEND;TZID=Europe/Helsinki:20160508T090000
DTSTAMP:20260422T114808
CREATED:20160426T124328Z
LAST-MODIFIED:20160504T143059Z
UID:9873-1462698000-1462698000@www.btc1912.de
SUMMARY:1. Damen (Heimspiel)
DESCRIPTION:Bremer TC von 1912 – Club zur Vahr II
URL:https://www.btc1912.de/event/1-damen-heimspiel/
CATEGORIES:Damen,Heimspiele
END:VEVENT
BEGIN:VEVENT
DTSTART;TZID=Europe/Helsinki:20160508T110000
DTEND;TZID=Europe/Helsinki:20160508T110000
DTSTAMP:20260422T114808
CREATED:20160217T143348Z
LAST-MODIFIED:20160217T143348Z
UID:9484-1462705200-1462705200@www.btc1912.de
SUMMARY:1. Damen 30 (Auswärtsspiel)
DESCRIPTION:Bremer TC von 1912 – Heikendorfer TC von 1965
URL:https://www.btc1912.de/event/1-damen-30-auswaertsspiel/
CATEGORIES:Auswärtspiele,Damen
END:VEVENT
BEGIN:VEVENT
DTSTART;TZID=Europe/Helsinki:20160508T110000
DTEND;TZID=Europe/Helsinki:20160508T110000
DTSTAMP:20260422T114808
CREATED:20160503T124733Z
LAST-MODIFIED:20160503T124733Z
UID:9957-1462705200-1462705200@www.btc1912.de
SUMMARY:Herren 50 (Heimspiel)
DESCRIPTION:Bremer TC von 1912 – SV Hemelingen
URL:https://www.btc1912.de/event/herren-50-heimspiel/
CATEGORIES:Heimspiele,Herren
END:VEVENT
BEGIN:VEVENT
DTSTART;TZID=Europe/Helsinki:20160508T130000
DTEND;TZID=Europe/Helsinki:20160508T130000
DTSTAMP:20260422T114808
CREATED:20160503T124838Z
LAST-MODIFIED:20160503T124838Z
UID:9958-1462712400-1462712400@www.btc1912.de
SUMMARY:Herren 60 (Heimspiel)
DESCRIPTION:Bremer TC von 1912 – TV von 1927
URL:https://www.btc1912.de/event/herren-60-heimspiel/
CATEGORIES:Heimspiele,Herren
END:VEVENT
BEGIN:VEVENT
DTSTART;TZID=Europe/Helsinki:20160508T140000
DTEND;TZID=Europe/Helsinki:20160508T140000
DTSTAMP:20260422T114808
CREATED:20160426T123042Z
LAST-MODIFIED:20160426T123042Z
UID:9865-1462716000-1462716000@www.btc1912.de
SUMMARY:2. Damen 30 (Heimspiel)
DESCRIPTION:Bremer TC von 1912 – TV Stuhr
URL:https://www.btc1912.de/event/2-damen-30-heimspiel/
CATEGORIES:Damen,Heimspiele
END:VEVENT
BEGIN:VEVENT
DTSTART;TZID=Europe/Helsinki:20160508T140000
DTEND;TZID=Europe/Helsinki:20160508T140000
DTSTAMP:20260422T114808
CREATED:20160503T125353Z
LAST-MODIFIED:20160503T125353Z
UID:9960-1462716000-1462716000@www.btc1912.de
SUMMARY:2. Herren 40 (Auswärtsspiel)
DESCRIPTION:Club zur Vahr – Bremer TC von 1912
URL:https://www.btc1912.de/event/2-herren-40-auswaertsspiel/
CATEGORIES:Auswärtspiele,Herren
END:VEVENT
END:VCALENDAR