BEGIN:VCALENDAR
VERSION:2.0
PRODID:-//Bremer Tennis-Club von 1912 e.V. - ECPv5.3.2.1//NONSGML v1.0//EN
CALSCALE:GREGORIAN
METHOD:PUBLISH
X-WR-CALNAME:Bremer Tennis-Club von 1912 e.V.
X-ORIGINAL-URL:https://www.btc1912.de
X-WR-CALDESC:Veranstaltungen für Bremer Tennis-Club von 1912 e.V.
BEGIN:VTIMEZONE
TZID:Europe/Helsinki
BEGIN:DAYLIGHT
TZOFFSETFROM:+0200
TZOFFSETTO:+0300
TZNAME:EEST
DTSTART:20160327T010000
END:DAYLIGHT
BEGIN:STANDARD
TZOFFSETFROM:+0300
TZOFFSETTO:+0200
TZNAME:EET
DTSTART:20161030T010000
END:STANDARD
END:VTIMEZONE
BEGIN:VEVENT
DTSTART;TZID=Europe/Helsinki:20160416T110000
DTEND;TZID=Europe/Helsinki:20160416T130000
DTSTAMP:20260422T114801
CREATED:20160407T095653Z
LAST-MODIFIED:20160407T095723Z
UID:9690-1460804400-1460811600@www.btc1912.de
SUMMARY:Cardiotraining
DESCRIPTION:Cardiotraining in der Gruppe in Halle 1\, Kostenbeitrag € 5\,-  pro Person. \nStartzeiten 11 Uhr und 12 Uhr. \nMelden Sie sich hier an.
URL:https://www.btc1912.de/event/cardiotraining-2/
CATEGORIES:Allgemein
END:VEVENT
END:VCALENDAR