BEGIN:VCALENDAR
VERSION:2.0
PRODID:-//Bremer Tennis-Club von 1912 e.V. - ECPv5.3.2.1//NONSGML v1.0//EN
CALSCALE:GREGORIAN
METHOD:PUBLISH
X-WR-CALNAME:Bremer Tennis-Club von 1912 e.V.
X-ORIGINAL-URL:https://www.btc1912.de
X-WR-CALDESC:Veranstaltungen für Bremer Tennis-Club von 1912 e.V.
BEGIN:VTIMEZONE
TZID:Europe/Helsinki
BEGIN:DAYLIGHT
TZOFFSETFROM:+0200
TZOFFSETTO:+0300
TZNAME:EEST
DTSTART:20150329T010000
END:DAYLIGHT
BEGIN:STANDARD
TZOFFSETFROM:+0300
TZOFFSETTO:+0200
TZNAME:EET
DTSTART:20151025T010000
END:STANDARD
END:VTIMEZONE
BEGIN:VEVENT
DTSTART;TZID=Europe/Helsinki:20150719T090000
DTEND;TZID=Europe/Helsinki:20150719T090000
DTSTAMP:20260423T132809
CREATED:20150508T085056Z
LAST-MODIFIED:20150508T085056Z
UID:7666-1437296400-1437296400@www.btc1912.de
SUMMARY:3. Herren 40 (A)
DESCRIPTION:Bremer TV von 1896 II – Bremer TC von 1912
URL:https://www.btc1912.de/event/3-herren-40-a-3/
CATEGORIES:Auswärtspiele,Herren
END:VEVENT
BEGIN:VEVENT
DTSTART;TZID=Europe/Helsinki:20150719T110000
DTEND;TZID=Europe/Helsinki:20150719T180000
DTSTAMP:20260423T132809
CREATED:20150426T084717Z
LAST-MODIFIED:20150426T084717Z
UID:7460-1437303600-1437328800@www.btc1912.de
SUMMARY:1. Herren - 2. Bundesliga (A)
DESCRIPTION:TV Espelkamp – Bremer TC von 1912
URL:https://www.btc1912.de/event/1-herren-2-bundesliga-a-2/
CATEGORIES:2. Bundesliga,Auswärtspiele,Herren
END:VEVENT
BEGIN:VEVENT
DTSTART;TZID=Europe/Helsinki:20150719T120000
DTEND;TZID=Europe/Helsinki:20150719T120000
DTSTAMP:20260423T132809
CREATED:20150508T084834Z
LAST-MODIFIED:20150508T084834Z
UID:7665-1437307200-1437307200@www.btc1912.de
SUMMARY:Herren 40 (H)
DESCRIPTION:Bremer TC von 1912 – Bremerhavener TV von 1905
URL:https://www.btc1912.de/event/herren-40-h-2/
CATEGORIES:Heimspiele,Herren
END:VEVENT
BEGIN:VEVENT
DTSTART;TZID=Europe/Helsinki:20150719T140000
DTEND;TZID=Europe/Helsinki:20150719T140000
DTSTAMP:20260423T132809
CREATED:20150508T085218Z
LAST-MODIFIED:20150508T085218Z
UID:7667-1437314400-1437314400@www.btc1912.de
SUMMARY:4. Herren 40 (A)
DESCRIPTION:TV von 1927 – Bremer TC von 1912
URL:https://www.btc1912.de/event/4-herren-40-a-4/
CATEGORIES:Auswärtspiele,Herren
END:VEVENT
END:VCALENDAR