BEGIN:VCALENDAR
VERSION:2.0
PRODID:-//Bremer Tennis-Club von 1912 e.V. - ECPv5.3.2.1//NONSGML v1.0//EN
CALSCALE:GREGORIAN
METHOD:PUBLISH
X-WR-CALNAME:Bremer Tennis-Club von 1912 e.V.
X-ORIGINAL-URL:https://www.btc1912.de
X-WR-CALDESC:Veranstaltungen für Bremer Tennis-Club von 1912 e.V.
BEGIN:VTIMEZONE
TZID:Europe/Helsinki
BEGIN:DAYLIGHT
TZOFFSETFROM:+0200
TZOFFSETTO:+0300
TZNAME:EEST
DTSTART:20150329T010000
END:DAYLIGHT
BEGIN:STANDARD
TZOFFSETFROM:+0300
TZOFFSETTO:+0200
TZNAME:EET
DTSTART:20151025T010000
END:STANDARD
END:VTIMEZONE
BEGIN:VEVENT
DTSTART;TZID=Europe/Helsinki:20150712T090000
DTEND;TZID=Europe/Helsinki:20150712T090000
DTSTAMP:20260423T115356
CREATED:20150506T111942Z
LAST-MODIFIED:20150506T111942Z
UID:7642-1436691600-1436691600@www.btc1912.de
SUMMARY:Damen 40 (A)
DESCRIPTION:Bremer TV von 1896 IV – Bremer TC von 1912
URL:https://www.btc1912.de/event/damen-40-a-4/
CATEGORIES:Auswärtspiele,Damen
END:VEVENT
BEGIN:VEVENT
DTSTART;TZID=Europe/Helsinki:20150712T100000
DTEND;TZID=Europe/Helsinki:20150712T100000
DTSTAMP:20260423T115356
CREATED:20150506T112047Z
LAST-MODIFIED:20150506T112047Z
UID:7643-1436695200-1436695200@www.btc1912.de
SUMMARY:2. Herren 30 (A)
DESCRIPTION:TURA Westrhauderfehn – Bremer TC von 1912
URL:https://www.btc1912.de/event/2-herren-30-a-2/
CATEGORIES:Auswärtspiele,Herren
END:VEVENT
BEGIN:VEVENT
DTSTART;TZID=Europe/Helsinki:20150712T110000
DTEND;TZID=Europe/Helsinki:20150712T180000
DTSTAMP:20260423T115356
CREATED:20150426T083548Z
LAST-MODIFIED:20150426T083948Z
UID:7455-1436698800-1436724000@www.btc1912.de
SUMMARY:1. Herren - 2. Bundesliga (H)
DESCRIPTION:Bremer TC von 1912 – TC 1899 BW Berlin
URL:https://www.btc1912.de/event/1-herren-2-bundesliga-h/
CATEGORIES:2. Bundesliga,Heimspiele,Herren
END:VEVENT
BEGIN:VEVENT
DTSTART;TZID=Europe/Helsinki:20150712T130000
DTEND;TZID=Europe/Helsinki:20150712T130000
DTSTAMP:20260423T115356
CREATED:20150506T112200Z
LAST-MODIFIED:20150506T112200Z
UID:7644-1436706000-1436706000@www.btc1912.de
SUMMARY:Herren 40 (A)
DESCRIPTION:TC Fredenbeck – Bremer TC von 1912
URL:https://www.btc1912.de/event/herren-40-a-3/
CATEGORIES:Auswärtspiele,Herren
END:VEVENT
BEGIN:VEVENT
DTSTART;TZID=Europe/Helsinki:20150712T140000
DTEND;TZID=Europe/Helsinki:20150712T140000
DTSTAMP:20260423T115356
CREATED:20150506T112305Z
LAST-MODIFIED:20150506T112305Z
UID:7645-1436709600-1436709600@www.btc1912.de
SUMMARY:Damen (A)
DESCRIPTION:TC Falkenberg – Bremer TC von 1912
URL:https://www.btc1912.de/event/damen-a-5/
CATEGORIES:Auswärtspiele,Damen
END:VEVENT
BEGIN:VEVENT
DTSTART;TZID=Europe/Helsinki:20150712T140000
DTEND;TZID=Europe/Helsinki:20150712T140000
DTSTAMP:20260423T115356
CREATED:20150506T112347Z
LAST-MODIFIED:20150506T112347Z
UID:7646-1436709600-1436709600@www.btc1912.de
SUMMARY:2. Damen (A)
DESCRIPTION:Bremer HC – Bremer TC von 1912
URL:https://www.btc1912.de/event/2-damen-a-3/
CATEGORIES:Auswärtspiele,Damen
END:VEVENT
BEGIN:VEVENT
DTSTART;TZID=Europe/Helsinki:20150712T140000
DTEND;TZID=Europe/Helsinki:20150712T140000
DTSTAMP:20260423T115356
CREATED:20150506T112444Z
LAST-MODIFIED:20150506T112444Z
UID:7647-1436709600-1436709600@www.btc1912.de
SUMMARY:2. Damen 30 (A)
DESCRIPTION:TSV Daverden – Bremer TC von 1912
URL:https://www.btc1912.de/event/2-damen-30-a-6/
CATEGORIES:Auswärtspiele,Damen
END:VEVENT
BEGIN:VEVENT
DTSTART;TZID=Europe/Helsinki:20150712T140000
DTEND;TZID=Europe/Helsinki:20150712T140000
DTSTAMP:20260423T115356
CREATED:20150506T112548Z
LAST-MODIFIED:20150506T112548Z
UID:7648-1436709600-1436709600@www.btc1912.de
SUMMARY:3. Herren 40 (A)
DESCRIPTION:TSV Lesum-Burgdamm – Bremer TC von 1912
URL:https://www.btc1912.de/event/3-herren-40-a-2/
CATEGORIES:Auswärtspiele,Herren
END:VEVENT
END:VCALENDAR