BEGIN:VCALENDAR
VERSION:2.0
PRODID:-//Bremer Tennis-Club von 1912 e.V. - ECPv5.3.2.1//NONSGML v1.0//EN
CALSCALE:GREGORIAN
METHOD:PUBLISH
X-WR-CALNAME:Bremer Tennis-Club von 1912 e.V.
X-ORIGINAL-URL:https://www.btc1912.de
X-WR-CALDESC:Veranstaltungen für Bremer Tennis-Club von 1912 e.V.
BEGIN:VTIMEZONE
TZID:Europe/Helsinki
BEGIN:DAYLIGHT
TZOFFSETFROM:+0200
TZOFFSETTO:+0300
TZNAME:EEST
DTSTART:20150329T010000
END:DAYLIGHT
BEGIN:STANDARD
TZOFFSETFROM:+0300
TZOFFSETTO:+0200
TZNAME:EET
DTSTART:20151025T010000
END:STANDARD
END:VTIMEZONE
BEGIN:VEVENT
DTSTART;TZID=Europe/Helsinki:20150711T100000
DTEND;TZID=Europe/Helsinki:20150711T100000
DTSTAMP:20260419T144547
CREATED:20150506T105414Z
LAST-MODIFIED:20150506T105414Z
UID:7639-1436608800-1436608800@www.btc1912.de
SUMMARY:Herren 60 (A)
DESCRIPTION:TC Oyten – Bremer TC von 1912
URL:https://www.btc1912.de/event/herren-60-a-3/
CATEGORIES:Auswärtspiele,Herren
END:VEVENT
BEGIN:VEVENT
DTSTART;TZID=Europe/Helsinki:20150711T140000
DTEND;TZID=Europe/Helsinki:20150711T140000
DTSTAMP:20260419T144547
CREATED:20150506T105531Z
LAST-MODIFIED:20150506T105531Z
UID:7640-1436623200-1436623200@www.btc1912.de
SUMMARY:2. Herren (A)
DESCRIPTION:TSV Germania Cadenberge – Bremer TC von 1912
URL:https://www.btc1912.de/event/2-herren-a-2/
CATEGORIES:Auswärtspiele,Herren
END:VEVENT
BEGIN:VEVENT
DTSTART;TZID=Europe/Helsinki:20150711T140000
DTEND;TZID=Europe/Helsinki:20150711T140000
DTSTAMP:20260419T144547
CREATED:20150506T105639Z
LAST-MODIFIED:20150506T105639Z
UID:7641-1436623200-1436623200@www.btc1912.de
SUMMARY:2. Herren 40 (A)
DESCRIPTION:TS Woltmershausen II – Bremer TC von 1912
URL:https://www.btc1912.de/event/2-herren-40-a-4/
CATEGORIES:Auswärtspiele,Herren
END:VEVENT
END:VCALENDAR