BEGIN:VCALENDAR
VERSION:2.0
PRODID:-//Bremer Tennis-Club von 1912 e.V. - ECPv5.3.2.1//NONSGML v1.0//EN
CALSCALE:GREGORIAN
METHOD:PUBLISH
X-WR-CALNAME:Bremer Tennis-Club von 1912 e.V.
X-ORIGINAL-URL:https://www.btc1912.de
X-WR-CALDESC:Veranstaltungen für Bremer Tennis-Club von 1912 e.V.
BEGIN:VTIMEZONE
TZID:Europe/Helsinki
BEGIN:DAYLIGHT
TZOFFSETFROM:+0200
TZOFFSETTO:+0300
TZNAME:EEST
DTSTART:20150329T010000
END:DAYLIGHT
BEGIN:STANDARD
TZOFFSETFROM:+0300
TZOFFSETTO:+0200
TZNAME:EET
DTSTART:20151025T010000
END:STANDARD
END:VTIMEZONE
BEGIN:VEVENT
DTSTART;TZID=Europe/Helsinki:20150621T090000
DTEND;TZID=Europe/Helsinki:20150621T090000
DTSTAMP:20260419T161514
CREATED:20150504T141141Z
LAST-MODIFIED:20150504T141141Z
UID:7626-1434877200-1434877200@www.btc1912.de
SUMMARY:Damen (A)
DESCRIPTION:TC Wiepenkathen – Bremer TC von 1912
URL:https://www.btc1912.de/event/damen-a-4/
CATEGORIES:Auswärtspiele,Damen
END:VEVENT
BEGIN:VEVENT
DTSTART;TZID=Europe/Helsinki:20150621T110000
DTEND;TZID=Europe/Helsinki:20150621T110000
DTSTAMP:20260419T161514
CREATED:20150212T140948Z
LAST-MODIFIED:20150212T140948Z
UID:7224-1434884400-1434884400@www.btc1912.de
SUMMARY:Damen 30 (A)
DESCRIPTION:SC Victoria Hamburg – Bremer TC von 1912
URL:https://www.btc1912.de/event/damen-30-a-5/
CATEGORIES:Auswärtspiele,Damen
END:VEVENT
BEGIN:VEVENT
DTSTART;TZID=Europe/Helsinki:20150621T110000
DTEND;TZID=Europe/Helsinki:20150621T110000
DTSTAMP:20260419T161514
CREATED:20150429T134401Z
LAST-MODIFIED:20150429T134401Z
UID:7590-1434884400-1434884400@www.btc1912.de
SUMMARY:Herren 60 (H)
DESCRIPTION:Bremer TC von 1912 – TV Assel
URL:https://www.btc1912.de/event/herren-60-h-2/
CATEGORIES:Heimspiele,Herren
END:VEVENT
BEGIN:VEVENT
DTSTART;TZID=Europe/Helsinki:20150621T110000
DTEND;TZID=Europe/Helsinki:20150621T110000
DTSTAMP:20260419T161514
CREATED:20150429T134505Z
LAST-MODIFIED:20150429T134505Z
UID:7591-1434884400-1434884400@www.btc1912.de
SUMMARY:Damen 40 (H)
DESCRIPTION:Bremer TC von 1912 – TG Thedinghausen II
URL:https://www.btc1912.de/event/damen-40-h/
CATEGORIES:Damen,Heimspiele
END:VEVENT
BEGIN:VEVENT
DTSTART;TZID=Europe/Helsinki:20150621T120000
DTEND;TZID=Europe/Helsinki:20150621T120000
DTSTAMP:20260419T161514
CREATED:20150429T134558Z
LAST-MODIFIED:20150429T134558Z
UID:7592-1434888000-1434888000@www.btc1912.de
SUMMARY:2. Damen 30 (H)
DESCRIPTION:Bremer TC von 1912 – Borgfelder TC
URL:https://www.btc1912.de/event/2-damen-30-h/
CATEGORIES:Damen,Heimspiele
END:VEVENT
END:VCALENDAR