BEGIN:VCALENDAR
VERSION:2.0
PRODID:-//Bremer Tennis-Club von 1912 e.V. - ECPv5.3.2.1//NONSGML v1.0//EN
CALSCALE:GREGORIAN
METHOD:PUBLISH
X-WR-CALNAME:Bremer Tennis-Club von 1912 e.V.
X-ORIGINAL-URL:https://www.btc1912.de
X-WR-CALDESC:Veranstaltungen für Bremer Tennis-Club von 1912 e.V.
BEGIN:VTIMEZONE
TZID:Europe/Helsinki
BEGIN:DAYLIGHT
TZOFFSETFROM:+0200
TZOFFSETTO:+0300
TZNAME:EEST
DTSTART:20150329T010000
END:DAYLIGHT
BEGIN:STANDARD
TZOFFSETFROM:+0300
TZOFFSETTO:+0200
TZNAME:EET
DTSTART:20151025T010000
END:STANDARD
END:VTIMEZONE
BEGIN:VEVENT
DTSTART;TZID=Europe/Helsinki:20150620T110000
DTEND;TZID=Europe/Helsinki:20150620T110000
DTSTAMP:20260419T161535
CREATED:20150429T134121Z
LAST-MODIFIED:20150429T134137Z
UID:7588-1434798000-1434798000@www.btc1912.de
SUMMARY:2. Herren (H)
DESCRIPTION:Bremer TC von 1912 – Bremerhavener TV von 1905 III
URL:https://www.btc1912.de/event/2-herren-h-2/
CATEGORIES:Heimspiele,Herren
END:VEVENT
BEGIN:VEVENT
DTSTART;TZID=Europe/Helsinki:20150620T140000
DTEND;TZID=Europe/Helsinki:20150620T140000
DTSTAMP:20260419T161535
CREATED:20150429T134256Z
LAST-MODIFIED:20150429T134256Z
UID:7589-1434808800-1434808800@www.btc1912.de
SUMMARY:3. Herren 40 (H)
DESCRIPTION:Bremer TC von 1912 – TSV BW Melchiorshausen
URL:https://www.btc1912.de/event/3-herren-40-h-3/
CATEGORIES:Heimspiele,Herren
END:VEVENT
BEGIN:VEVENT
DTSTART;TZID=Europe/Helsinki:20150620T140000
DTEND;TZID=Europe/Helsinki:20150620T140000
DTSTAMP:20260419T161535
CREATED:20150504T140904Z
LAST-MODIFIED:20150504T140904Z
UID:7624-1434808800-1434808800@www.btc1912.de
SUMMARY:4. Herren 40 (A)
DESCRIPTION:TC Schwarz-Weiß Bremen – Bremer TC von 1912
URL:https://www.btc1912.de/event/4-herren-40-a-2/
CATEGORIES:Auswärtspiele,Herren
END:VEVENT
BEGIN:VEVENT
DTSTART;TZID=Europe/Helsinki:20150620T140000
DTEND;TZID=Europe/Helsinki:20150620T140000
DTSTAMP:20260419T161535
CREATED:20150504T141027Z
LAST-MODIFIED:20150504T141027Z
UID:7625-1434808800-1434808800@www.btc1912.de
SUMMARY:2. Damen (A)
DESCRIPTION:TC Lilienthal II – Bremer TC von 1912
URL:https://www.btc1912.de/event/2-damen-a/
CATEGORIES:Auswärtspiele,Damen
END:VEVENT
END:VCALENDAR