BEGIN:VCALENDAR
VERSION:2.0
PRODID:-//Bremer Tennis-Club von 1912 e.V. - ECPv5.3.2.1//NONSGML v1.0//EN
CALSCALE:GREGORIAN
METHOD:PUBLISH
X-WR-CALNAME:Bremer Tennis-Club von 1912 e.V.
X-ORIGINAL-URL:https://www.btc1912.de
X-WR-CALDESC:Veranstaltungen für Bremer Tennis-Club von 1912 e.V.
BEGIN:VTIMEZONE
TZID:Europe/Helsinki
BEGIN:DAYLIGHT
TZOFFSETFROM:+0200
TZOFFSETTO:+0300
TZNAME:EEST
DTSTART:20150329T010000
END:DAYLIGHT
BEGIN:STANDARD
TZOFFSETFROM:+0300
TZOFFSETTO:+0200
TZNAME:EET
DTSTART:20151025T010000
END:STANDARD
END:VTIMEZONE
BEGIN:VEVENT
DTSTART;TZID=Europe/Helsinki:20150510T100000
DTEND;TZID=Europe/Helsinki:20150510T100000
DTSTAMP:20260419T175420
CREATED:20150504T132830Z
LAST-MODIFIED:20150504T132830Z
UID:7612-1431252000-1431252000@www.btc1912.de
SUMMARY:2. Damen 30 (A)
DESCRIPTION:TuS Sudwalde – Bremer TC von 1912
URL:https://www.btc1912.de/event/2-damen-30-a-3/
CATEGORIES:Auswärtspiele,Damen
END:VEVENT
BEGIN:VEVENT
DTSTART;TZID=Europe/Helsinki:20150510T100000
DTEND;TZID=Europe/Helsinki:20150510T100000
DTSTAMP:20260419T175420
CREATED:20150504T133658Z
LAST-MODIFIED:20150504T133658Z
UID:7615-1431252000-1431252000@www.btc1912.de
SUMMARY:Herren 30 (H)
DESCRIPTION:Bremer TC von 1912 – TC Aurich-West
URL:https://www.btc1912.de/event/herren-30-h-7/
CATEGORIES:Heimspiele,Herren
END:VEVENT
BEGIN:VEVENT
DTSTART;TZID=Europe/Helsinki:20150510T110000
DTEND;TZID=Europe/Helsinki:20150510T110000
DTSTAMP:20260419T175420
CREATED:20150212T140431Z
LAST-MODIFIED:20150212T140431Z
UID:7220-1431255600-1431255600@www.btc1912.de
SUMMARY:Damen 30 (H)
DESCRIPTION:Bremer TC von 1912 – TC Verden
URL:https://www.btc1912.de/event/damen-30-h-4/
CATEGORIES:Damen,Heimspiele
END:VEVENT
BEGIN:VEVENT
DTSTART;TZID=Europe/Helsinki:20150510T110000
DTEND;TZID=Europe/Helsinki:20150510T110000
DTSTAMP:20260419T175420
CREATED:20150427T153128Z
LAST-MODIFIED:20150427T153630Z
UID:7551-1431255600-1431255600@www.btc1912.de
SUMMARY:Herren 60 (H)
DESCRIPTION:Bremer TC von 1912 – TC Bienenbüttel
URL:https://www.btc1912.de/event/herren-60-h/
CATEGORIES:Heimspiele,Herren
END:VEVENT
BEGIN:VEVENT
DTSTART;TZID=Europe/Helsinki:20150510T110000
DTEND;TZID=Europe/Helsinki:20150510T110000
DTSTAMP:20260419T175420
CREATED:20150504T132938Z
LAST-MODIFIED:20150504T132938Z
UID:7613-1431255600-1431255600@www.btc1912.de
SUMMARY:2. Herren 40 (A)
DESCRIPTION:Huder TV – Bremer TC von 1912
URL:https://www.btc1912.de/event/2-herren-40-a-3/
CATEGORIES:Auswärtspiele,Herren
END:VEVENT
BEGIN:VEVENT
DTSTART;TZID=Europe/Helsinki:20150510T140000
DTEND;TZID=Europe/Helsinki:20150510T140000
DTSTAMP:20260419T175420
CREATED:20150427T153829Z
LAST-MODIFIED:20150427T153829Z
UID:7552-1431266400-1431266400@www.btc1912.de
SUMMARY:Damen (H)
DESCRIPTION:Bremer TC von 1912 – Bremer TV von 1896
URL:https://www.btc1912.de/event/damen-h-4/
CATEGORIES:Damen,Heimspiele
END:VEVENT
BEGIN:VEVENT
DTSTART;TZID=Europe/Helsinki:20150510T140000
DTEND;TZID=Europe/Helsinki:20150510T140000
DTSTAMP:20260419T175420
CREATED:20150427T153956Z
LAST-MODIFIED:20150427T153956Z
UID:7553-1431266400-1431266400@www.btc1912.de
SUMMARY:3. Herren 40 (H)
DESCRIPTION:Bremer TC von 1912 – SG Findorff
URL:https://www.btc1912.de/event/3-herren-40-h-2/
CATEGORIES:Heimspiele,Herren
END:VEVENT
END:VCALENDAR