BEGIN:VCALENDAR
VERSION:2.0
PRODID:-//Bremer Tennis-Club von 1912 e.V. - ECPv5.3.2.1//NONSGML v1.0//EN
CALSCALE:GREGORIAN
METHOD:PUBLISH
X-WR-CALNAME:Bremer Tennis-Club von 1912 e.V.
X-ORIGINAL-URL:https://www.btc1912.de
X-WR-CALDESC:Veranstaltungen für Bremer Tennis-Club von 1912 e.V.
BEGIN:VTIMEZONE
TZID:Europe/Helsinki
BEGIN:DAYLIGHT
TZOFFSETFROM:+0200
TZOFFSETTO:+0300
TZNAME:EEST
DTSTART:20150329T010000
END:DAYLIGHT
BEGIN:STANDARD
TZOFFSETFROM:+0300
TZOFFSETTO:+0200
TZNAME:EET
DTSTART:20151025T010000
END:STANDARD
END:VTIMEZONE
BEGIN:VEVENT
DTSTART;TZID=Europe/Helsinki:20150503T090000
DTEND;TZID=Europe/Helsinki:20150503T090000
DTSTAMP:20260419T175442
CREATED:20150427T120247Z
LAST-MODIFIED:20150427T120247Z
UID:7538-1430643600-1430643600@www.btc1912.de
SUMMARY:2. Damen (H)
DESCRIPTION:Bremer TC von 1912 –TV Ost Bremen
URL:https://www.btc1912.de/event/2-damen-h/
CATEGORIES:Damen,Heimspiele
END:VEVENT
BEGIN:VEVENT
DTSTART;TZID=Europe/Helsinki:20150503T100000
DTEND;TZID=Europe/Helsinki:20150503T100000
DTSTAMP:20260419T175442
CREATED:20150427T120417Z
LAST-MODIFIED:20150427T120417Z
UID:7539-1430647200-1430647200@www.btc1912.de
SUMMARY:3. Herren 30 (H)
DESCRIPTION:Bremer TC von 1912 –TuSG Ritterhude II
URL:https://www.btc1912.de/event/3-herren-30-h/
CATEGORIES:Heimspiele,Herren
END:VEVENT
BEGIN:VEVENT
DTSTART;TZID=Europe/Helsinki:20150503T100000
DTEND;TZID=Europe/Helsinki:20150503T100000
DTSTAMP:20260419T175442
CREATED:20150427T121212Z
LAST-MODIFIED:20150427T121212Z
UID:7544-1430647200-1430647200@www.btc1912.de
SUMMARY:4. Herren 40 (A)
DESCRIPTION:TS Woltmershausen IV –Bremer TC von 1912
URL:https://www.btc1912.de/event/4-herren-40-a/
CATEGORIES:Auswärtspiele,Herren
END:VEVENT
BEGIN:VEVENT
DTSTART;TZID=Europe/Helsinki:20150503T140000
DTEND;TZID=Europe/Helsinki:20150503T140000
DTSTAMP:20260419T175442
CREATED:20150427T120619Z
LAST-MODIFIED:20150427T120619Z
UID:7541-1430661600-1430661600@www.btc1912.de
SUMMARY:Damen (H)
DESCRIPTION:Bremer TC von 1912 –TC Osterholz-Scharmbeck
URL:https://www.btc1912.de/event/damen-h-3/
CATEGORIES:Damen,Heimspiele
END:VEVENT
BEGIN:VEVENT
DTSTART;TZID=Europe/Helsinki:20150503T140000
DTEND;TZID=Europe/Helsinki:20150503T140000
DTSTAMP:20260419T175442
CREATED:20150427T120810Z
LAST-MODIFIED:20150427T120810Z
UID:7542-1430661600-1430661600@www.btc1912.de
SUMMARY:3. Herren 40 (H)
DESCRIPTION:Bremer TC von 1912 –TS Woltmershausen III
URL:https://www.btc1912.de/event/3-herren-40-h/
CATEGORIES:Heimspiele,Herren
END:VEVENT
BEGIN:VEVENT
DTSTART;TZID=Europe/Helsinki:20150503T140000
DTEND;TZID=Europe/Helsinki:20150503T140000
DTSTAMP:20260419T175442
CREATED:20150427T121317Z
LAST-MODIFIED:20150427T121317Z
UID:7545-1430661600-1430661600@www.btc1912.de
SUMMARY:2. Herren 40 (A)
DESCRIPTION:TV Rot-Weiß Bremen III –Bremer TC von 1912
URL:https://www.btc1912.de/event/2-herren-40-a/
CATEGORIES:Auswärtspiele,Herren
END:VEVENT
END:VCALENDAR