BEGIN:VCALENDAR
VERSION:2.0
PRODID:-//Bremer Tennis-Club von 1912 e.V. - ECPv5.3.2.1//NONSGML v1.0//EN
CALSCALE:GREGORIAN
METHOD:PUBLISH
X-WR-CALNAME:Bremer Tennis-Club von 1912 e.V.
X-ORIGINAL-URL:https://www.btc1912.de
X-WR-CALDESC:Veranstaltungen für Bremer Tennis-Club von 1912 e.V.
BEGIN:VTIMEZONE
TZID:Europe/Helsinki
BEGIN:DAYLIGHT
TZOFFSETFROM:+0200
TZOFFSETTO:+0300
TZNAME:EEST
DTSTART:20140330T010000
END:DAYLIGHT
BEGIN:STANDARD
TZOFFSETFROM:+0300
TZOFFSETTO:+0200
TZNAME:EET
DTSTART:20141026T010000
END:STANDARD
END:VTIMEZONE
BEGIN:VEVENT
DTSTART;TZID=Europe/Helsinki:20140928T090000
DTEND;TZID=Europe/Helsinki:20140928T170000
DTSTAMP:20260425T211754
CREATED:20140918T212632Z
LAST-MODIFIED:20140918T212632Z
UID:6890-1411894800-1411923600@www.btc1912.de
SUMMARY:Vereinsmeisterschaften der Jugend
DESCRIPTION:
URL:https://www.btc1912.de/event/vereinsmeisterschaften-der-jugend/
CATEGORIES:Jugend
END:VEVENT
END:VCALENDAR