BEGIN:VCALENDAR
VERSION:2.0
PRODID:-//Bremer Tennis-Club von 1912 e.V. - ECPv5.3.2.1//NONSGML v1.0//EN
CALSCALE:GREGORIAN
METHOD:PUBLISH
X-WR-CALNAME:Bremer Tennis-Club von 1912 e.V.
X-ORIGINAL-URL:https://www.btc1912.de
X-WR-CALDESC:Veranstaltungen für Bremer Tennis-Club von 1912 e.V.
BEGIN:VTIMEZONE
TZID:Europe/Helsinki
BEGIN:DAYLIGHT
TZOFFSETFROM:+0200
TZOFFSETTO:+0300
TZNAME:EEST
DTSTART:20150329T010000
END:DAYLIGHT
BEGIN:STANDARD
TZOFFSETFROM:+0300
TZOFFSETTO:+0200
TZNAME:EET
DTSTART:20151025T010000
END:STANDARD
END:VTIMEZONE
BEGIN:VEVENT
DTSTART;TZID=Europe/Helsinki:20150720T190000
DTEND;TZID=Europe/Helsinki:20150720T203000
DTSTAMP:20260419T145726
CREATED:20150710T090254Z
LAST-MODIFIED:20150710T090327Z
UID:8092-1437418800-1437424200@www.btc1912.de
SUMMARY:Spieltreff für „alle“
DESCRIPTION:Treffen für alle\, die Spielpartner suchen. Die Plätze 8 + 9 sind zum Spielen reserviert. Zwei erfahrene Vereinsmitglieder sind ebenfalls dabei.
URL:https://www.btc1912.de/event/spieltreff-2/
CATEGORIES:Allgemein
END:VEVENT
END:VCALENDAR