BEGIN:VCALENDAR
VERSION:2.0
PRODID:-//Bremer Tennis-Club von 1912 e.V. - ECPv5.3.2.1//NONSGML v1.0//EN
CALSCALE:GREGORIAN
METHOD:PUBLISH
X-WR-CALNAME:Bremer Tennis-Club von 1912 e.V.
X-ORIGINAL-URL:https://www.btc1912.de
X-WR-CALDESC:Veranstaltungen für Bremer Tennis-Club von 1912 e.V.
BEGIN:VTIMEZONE
TZID:Europe/Helsinki
BEGIN:DAYLIGHT
TZOFFSETFROM:+0200
TZOFFSETTO:+0300
TZNAME:EEST
DTSTART:20150329T010000
END:DAYLIGHT
BEGIN:STANDARD
TZOFFSETFROM:+0300
TZOFFSETTO:+0200
TZNAME:EET
DTSTART:20151025T010000
END:STANDARD
END:VTIMEZONE
BEGIN:VEVENT
DTSTART;TZID=Europe/Helsinki:20150527T160000
DTEND;TZID=Europe/Helsinki:20150527T160000
DTSTAMP:20260419T193553
CREATED:20150517T092910Z
LAST-MODIFIED:20150526T150701Z
UID:7694-1432742400-1432742400@www.btc1912.de
SUMMARY:Juniorinnen 12 II (H) fällt leider aus!
DESCRIPTION:TV Eiche Horn hat seine Mannschaft zurückgezogen!
URL:https://www.btc1912.de/event/juniorinnen-12-ii-h/
END:VEVENT
END:VCALENDAR