BEGIN:VCALENDAR
VERSION:2.0
PRODID:-//Bremer Tennis-Club von 1912 e.V. - ECPv5.3.2.1//NONSGML v1.0//EN
CALSCALE:GREGORIAN
METHOD:PUBLISH
X-WR-CALNAME:Bremer Tennis-Club von 1912 e.V.
X-ORIGINAL-URL:https://www.btc1912.de
X-WR-CALDESC:Veranstaltungen für Bremer Tennis-Club von 1912 e.V.
BEGIN:VTIMEZONE
TZID:Europe/Helsinki
BEGIN:DAYLIGHT
TZOFFSETFROM:+0200
TZOFFSETTO:+0300
TZNAME:EEST
DTSTART:20150329T010000
END:DAYLIGHT
BEGIN:STANDARD
TZOFFSETFROM:+0300
TZOFFSETTO:+0200
TZNAME:EET
DTSTART:20151025T010000
END:STANDARD
END:VTIMEZONE
BEGIN:VEVENT
DTSTART;TZID=Europe/Helsinki:20150208T150000
DTEND;TZID=Europe/Helsinki:20150208T150000
DTSTAMP:20260420T083810
CREATED:20141210T111534Z
LAST-MODIFIED:20141210T111534Z
UID:7133-1423407600-1423407600@www.btc1912.de
SUMMARY:Damen (A)
DESCRIPTION:TV Ost-Bremen II – Bremer TC von 1912
URL:https://www.btc1912.de/event/damen-a-2/
CATEGORIES:Auswärtspiele,Damen
END:VEVENT
END:VCALENDAR