BEGIN:VCALENDAR
VERSION:2.0
PRODID:-//Bremer Tennis-Club von 1912 e.V. - ECPv5.3.2.1//NONSGML v1.0//EN
CALSCALE:GREGORIAN
METHOD:PUBLISH
X-WR-CALNAME:Bremer Tennis-Club von 1912 e.V.
X-ORIGINAL-URL:https://www.btc1912.de
X-WR-CALDESC:Veranstaltungen für Bremer Tennis-Club von 1912 e.V.
BEGIN:VTIMEZONE
TZID:Europe/Helsinki
BEGIN:DAYLIGHT
TZOFFSETFROM:+0200
TZOFFSETTO:+0300
TZNAME:EEST
DTSTART:20150329T010000
END:DAYLIGHT
BEGIN:STANDARD
TZOFFSETFROM:+0300
TZOFFSETTO:+0200
TZNAME:EET
DTSTART:20151025T010000
END:STANDARD
END:VTIMEZONE
BEGIN:VEVENT
DTSTART;TZID=Europe/Helsinki:20150610T160000
DTEND;TZID=Europe/Helsinki:20150610T160000
DTSTAMP:20260419T183550
CREATED:20150605T122023Z
LAST-MODIFIED:20150605T122155Z
UID:7905-1433952000-1433952000@www.btc1912.de
SUMMARY:BSM BTC1912 U8 I gegen BTC1912 U8 II
DESCRIPTION:Platz 7 + 8
URL:https://www.btc1912.de/event/bsm-btc1912-u8-i-gegen-btc1912-u8-ii/
CATEGORIES:Heimspiele,Jugend
END:VEVENT
END:VCALENDAR