BEGIN:VCALENDAR
VERSION:2.0
PRODID:-//Bremer Tennis-Club von 1912 e.V. - ECPv5.3.2.1//NONSGML v1.0//EN
CALSCALE:GREGORIAN
METHOD:PUBLISH
X-WR-CALNAME:Bremer Tennis-Club von 1912 e.V.
X-ORIGINAL-URL:https://www.btc1912.de
X-WR-CALDESC:Veranstaltungen für Bremer Tennis-Club von 1912 e.V.
BEGIN:VTIMEZONE
TZID:Europe/Helsinki
BEGIN:DAYLIGHT
TZOFFSETFROM:+0200
TZOFFSETTO:+0300
TZNAME:EEST
DTSTART:20150329T010000
END:DAYLIGHT
BEGIN:STANDARD
TZOFFSETFROM:+0300
TZOFFSETTO:+0200
TZNAME:EET
DTSTART:20151025T010000
END:STANDARD
END:VTIMEZONE
BEGIN:VEVENT
DTSTART;TZID=Europe/Helsinki:20150713T163000
DTEND;TZID=Europe/Helsinki:20150713T163000
DTSTAMP:20260419T152306
CREATED:20150706T071224Z
LAST-MODIFIED:20150706T071224Z
UID:8046-1436805000-1436805000@www.btc1912.de
SUMMARY:Bremer Stadtmusikanten U8 II (H)
DESCRIPTION:gegen Club zur Vahr\,\nPlatz 9 + 10
URL:https://www.btc1912.de/event/bremer-stadtmusikanten-u8-ii-h/
CATEGORIES:Heimspiele,Jugend
END:VEVENT
END:VCALENDAR