BEGIN:VCALENDAR
VERSION:2.0
PRODID:-//Bremer Tennis-Club von 1912 e.V. - ECPv5.3.2.1//NONSGML v1.0//EN
CALSCALE:GREGORIAN
METHOD:PUBLISH
X-WR-CALNAME:Bremer Tennis-Club von 1912 e.V.
X-ORIGINAL-URL:https://www.btc1912.de
X-WR-CALDESC:Veranstaltungen für Bremer Tennis-Club von 1912 e.V.
BEGIN:VTIMEZONE
TZID:Europe/Helsinki
BEGIN:DAYLIGHT
TZOFFSETFROM:+0200
TZOFFSETTO:+0300
TZNAME:EEST
DTSTART:20150329T010000
END:DAYLIGHT
BEGIN:STANDARD
TZOFFSETFROM:+0300
TZOFFSETTO:+0200
TZNAME:EET
DTSTART:20151025T010000
END:STANDARD
END:VTIMEZONE
BEGIN:VEVENT
DTSTART;TZID=Europe/Helsinki:20150614T100000
DTEND;TZID=Europe/Helsinki:20150614T100000
DTSTAMP:20260419T164412
CREATED:20150429T133222Z
LAST-MODIFIED:20150429T133222Z
UID:7583-1434276000-1434276000@www.btc1912.de
SUMMARY:4. Herren 40 (H)
DESCRIPTION:Bremer TC von 1912 – Bremer TV von 1896 III
URL:https://www.btc1912.de/event/4-herren-40-h-3/
CATEGORIES:Heimspiele,Herren
END:VEVENT
END:VCALENDAR