BEGIN:VCALENDAR
VERSION:2.0
PRODID:-//Bremer Tennis-Club von 1912 e.V. - ECPv5.3.2.1//NONSGML v1.0//EN
CALSCALE:GREGORIAN
METHOD:PUBLISH
X-WR-CALNAME:Bremer Tennis-Club von 1912 e.V.
X-ORIGINAL-URL:https://www.btc1912.de
X-WR-CALDESC:Veranstaltungen für Bremer Tennis-Club von 1912 e.V.
BEGIN:VTIMEZONE
TZID:Europe/Helsinki
BEGIN:DAYLIGHT
TZOFFSETFROM:+0200
TZOFFSETTO:+0300
TZNAME:EEST
DTSTART:20150329T010000
END:DAYLIGHT
BEGIN:STANDARD
TZOFFSETFROM:+0300
TZOFFSETTO:+0200
TZNAME:EET
DTSTART:20151025T010000
END:STANDARD
END:VTIMEZONE
BEGIN:VEVENT
DTSTART;TZID=Europe/Helsinki:20150704T110000
DTEND;TZID=Europe/Helsinki:20150704T110000
DTSTAMP:20260419T150612
CREATED:20150506T102724Z
LAST-MODIFIED:20150506T102724Z
UID:7635-1436007600-1436007600@www.btc1912.de
SUMMARY:4. Herren 40 (A)
DESCRIPTION:TG Uesen IV – Bremer TC von 1912
URL:https://www.btc1912.de/event/4-herren-40-a-3/
CATEGORIES:Auswärtspiele,Herren
END:VEVENT
END:VCALENDAR