BEGIN:VCALENDAR
VERSION:2.0
PRODID:-//Bremer Tennis-Club von 1912 e.V. - ECPv5.3.2.1//NONSGML v1.0//EN
CALSCALE:GREGORIAN
METHOD:PUBLISH
X-WR-CALNAME:Bremer Tennis-Club von 1912 e.V.
X-ORIGINAL-URL:https://www.btc1912.de
X-WR-CALDESC:Veranstaltungen für Bremer Tennis-Club von 1912 e.V.
BEGIN:VTIMEZONE
TZID:Europe/Helsinki
BEGIN:DAYLIGHT
TZOFFSETFROM:+0200
TZOFFSETTO:+0300
TZNAME:EEST
DTSTART:20150329T010000
END:DAYLIGHT
BEGIN:STANDARD
TZOFFSETFROM:+0300
TZOFFSETTO:+0200
TZNAME:EET
DTSTART:20151025T010000
END:STANDARD
END:VTIMEZONE
BEGIN:VEVENT
DTSTART;TZID=Europe/Helsinki:20150509T090000
DTEND;TZID=Europe/Helsinki:20150509T090000
DTSTAMP:20260419T195959
CREATED:20150504T133152Z
LAST-MODIFIED:20150504T133152Z
UID:7614-1431162000-1431162000@www.btc1912.de
SUMMARY:2. Herren (H)
DESCRIPTION:Bremer TC von 1912 – Beckedorfer TC
URL:https://www.btc1912.de/event/2-herren-h-3/
CATEGORIES:Heimspiele,Herren
END:VEVENT
END:VCALENDAR