BEGIN:VCALENDAR
VERSION:2.0
PRODID:-//Bremer Tennis-Club von 1912 e.V. - ECPv5.3.2.1//NONSGML v1.0//EN
CALSCALE:GREGORIAN
METHOD:PUBLISH
X-WR-CALNAME:Bremer Tennis-Club von 1912 e.V.
X-ORIGINAL-URL:https://www.btc1912.de
X-WR-CALDESC:Veranstaltungen für Bremer Tennis-Club von 1912 e.V.
BEGIN:VTIMEZONE
TZID:Europe/Helsinki
BEGIN:DAYLIGHT
TZOFFSETFROM:+0200
TZOFFSETTO:+0300
TZNAME:EEST
DTSTART:20140330T010000
END:DAYLIGHT
BEGIN:STANDARD
TZOFFSETFROM:+0300
TZOFFSETTO:+0200
TZNAME:EET
DTSTART:20141026T010000
END:STANDARD
END:VTIMEZONE
BEGIN:VEVENT
DTSTART;TZID=Europe/Helsinki:20140720T130000
DTEND;TZID=Europe/Helsinki:20140720T130000
DTSTAMP:20260425T180801
CREATED:20140503T184822Z
LAST-MODIFIED:20140714T205205Z
UID:5679-1405861200-1405861200@www.btc1912.de
SUMMARY:13:00 Herren 40 III (H)
DESCRIPTION:Bremer TC v. 1912 III – Club zur Vahr II (H)
URL:https://www.btc1912.de/event/1100-herren-40-iii-h-2/
CATEGORIES:Heimspiele,Herren
END:VEVENT
END:VCALENDAR