BEGIN:VCALENDAR
VERSION:2.0
PRODID:-//Bremer Tennis-Club von 1912 e.V. - ECPv5.3.2.1//NONSGML v1.0//EN
CALSCALE:GREGORIAN
METHOD:PUBLISH
X-WR-CALNAME:Bremer Tennis-Club von 1912 e.V.
X-ORIGINAL-URL:https://www.btc1912.de
X-WR-CALDESC:Veranstaltungen für Bremer Tennis-Club von 1912 e.V.
BEGIN:VTIMEZONE
TZID:Europe/Helsinki
BEGIN:DAYLIGHT
TZOFFSETFROM:+0200
TZOFFSETTO:+0300
TZNAME:EEST
DTSTART:20150329T010000
END:DAYLIGHT
BEGIN:STANDARD
TZOFFSETFROM:+0300
TZOFFSETTO:+0200
TZNAME:EET
DTSTART:20151025T010000
END:STANDARD
END:VTIMEZONE
BEGIN:VEVENT
DTSTART;TZID=Europe/Helsinki:20150719T110000
DTEND;TZID=Europe/Helsinki:20150719T180000
DTSTAMP:20260423T150503
CREATED:20150426T084717Z
LAST-MODIFIED:20150426T084717Z
UID:7460-1437303600-1437328800@www.btc1912.de
SUMMARY:1. Herren - 2. Bundesliga (A)
DESCRIPTION:TV Espelkamp – Bremer TC von 1912
URL:https://www.btc1912.de/event/1-herren-2-bundesliga-a-2/
CATEGORIES:2. Bundesliga,Auswärtspiele,Herren
END:VEVENT
END:VCALENDAR