BEGIN:VCALENDAR
VERSION:2.0
PRODID:-//Bremer Tennis-Club von 1912 e.V. - ECPv5.3.2.1//NONSGML v1.0//EN
CALSCALE:GREGORIAN
METHOD:PUBLISH
X-WR-CALNAME:Bremer Tennis-Club von 1912 e.V.
X-ORIGINAL-URL:https://www.btc1912.de
X-WR-CALDESC:Veranstaltungen für Bremer Tennis-Club von 1912 e.V.
BEGIN:VTIMEZONE
TZID:Europe/Helsinki
BEGIN:DAYLIGHT
TZOFFSETFROM:+0200
TZOFFSETTO:+0300
TZNAME:EEST
DTSTART:20160327T010000
END:DAYLIGHT
BEGIN:STANDARD
TZOFFSETFROM:+0300
TZOFFSETTO:+0200
TZNAME:EET
DTSTART:20161030T010000
END:STANDARD
END:VTIMEZONE
BEGIN:VEVENT
DTSTART;TZID=Europe/Helsinki:20160821T140000
DTEND;TZID=Europe/Helsinki:20160821T140000
DTSTAMP:20260420T114302
CREATED:20160426T124435Z
LAST-MODIFIED:20160601T120004Z
UID:9874-1471788000-1471788000@www.btc1912.de
SUMMARY:1. Damen (Heimspiel)
DESCRIPTION:Bremer TC von 1912 – TV von 1927
URL:https://www.btc1912.de/event/1-damen-heimspiel-2/
CATEGORIES:Damen,Heimspiele
END:VEVENT
END:VCALENDAR